BEGIN:VCALENDAR
VERSION:2.0
PRODID:-//JSOC - ECPv6.15.20//NONSGML v1.0//EN
CALSCALE:GREGORIAN
METHOD:PUBLISH
X-ORIGINAL-URL:https://jainsamajofcolorado.org
X-WR-CALDESC:Events for JSOC
REFRESH-INTERVAL;VALUE=DURATION:PT1H
X-Robots-Tag:noindex
X-PUBLISHED-TTL:PT1H
BEGIN:VTIMEZONE
TZID:America/Denver
BEGIN:DAYLIGHT
TZOFFSETFROM:-0700
TZOFFSETTO:-0600
TZNAME:MDT
DTSTART:20210314T090000
END:DAYLIGHT
BEGIN:STANDARD
TZOFFSETFROM:-0600
TZOFFSETTO:-0700
TZNAME:MST
DTSTART:20211107T080000
END:STANDARD
BEGIN:DAYLIGHT
TZOFFSETFROM:-0700
TZOFFSETTO:-0600
TZNAME:MDT
DTSTART:20220313T090000
END:DAYLIGHT
BEGIN:STANDARD
TZOFFSETFROM:-0600
TZOFFSETTO:-0700
TZNAME:MST
DTSTART:20221106T080000
END:STANDARD
BEGIN:DAYLIGHT
TZOFFSETFROM:-0700
TZOFFSETTO:-0600
TZNAME:MDT
DTSTART:20230312T090000
END:DAYLIGHT
BEGIN:STANDARD
TZOFFSETFROM:-0600
TZOFFSETTO:-0700
TZNAME:MST
DTSTART:20231105T080000
END:STANDARD
END:VTIMEZONE
BEGIN:VEVENT
DTSTART;TZID=America/Denver:20220911T103000
DTEND;TZID=America/Denver:20220911T113000
DTSTAMP:20260423T154735
CREATED:20220528T220506Z
LAST-MODIFIED:20220711T043739Z
UID:1224-1662892200-1662895800@jainsamajofcolorado.org
SUMMARY:Pathshala Day
DESCRIPTION:There will be Pathshala today.
URL:https://jainsamajofcolorado.org/event/pathshala-day/
LOCATION:Virtual – Zoom
CATEGORIES:Pathshala
ATTACH;FMTTYPE=image/jpeg:https://jainsamajofcolorado.org/wp-content/uploads/2022/05/Pathshala.jpg
END:VEVENT
END:VCALENDAR