BEGIN:VCALENDAR
VERSION:2.0
PRODID:-//JSOC - ECPv6.15.20//NONSGML v1.0//EN
CALSCALE:GREGORIAN
METHOD:PUBLISH
X-ORIGINAL-URL:https://jainsamajofcolorado.org
X-WR-CALDESC:Events for JSOC
REFRESH-INTERVAL;VALUE=DURATION:PT1H
X-Robots-Tag:noindex
X-PUBLISHED-TTL:PT1H
BEGIN:VTIMEZONE
TZID:America/Denver
BEGIN:DAYLIGHT
TZOFFSETFROM:-0700
TZOFFSETTO:-0600
TZNAME:MDT
DTSTART:20210314T090000
END:DAYLIGHT
BEGIN:STANDARD
TZOFFSETFROM:-0600
TZOFFSETTO:-0700
TZNAME:MST
DTSTART:20211107T080000
END:STANDARD
BEGIN:DAYLIGHT
TZOFFSETFROM:-0700
TZOFFSETTO:-0600
TZNAME:MDT
DTSTART:20220313T090000
END:DAYLIGHT
BEGIN:STANDARD
TZOFFSETFROM:-0600
TZOFFSETTO:-0700
TZNAME:MST
DTSTART:20221106T080000
END:STANDARD
BEGIN:DAYLIGHT
TZOFFSETFROM:-0700
TZOFFSETTO:-0600
TZNAME:MDT
DTSTART:20230312T090000
END:DAYLIGHT
BEGIN:STANDARD
TZOFFSETFROM:-0600
TZOFFSETTO:-0700
TZNAME:MST
DTSTART:20231105T080000
END:STANDARD
BEGIN:DAYLIGHT
TZOFFSETFROM:-0700
TZOFFSETTO:-0600
TZNAME:MDT
DTSTART:20240310T090000
END:DAYLIGHT
BEGIN:STANDARD
TZOFFSETFROM:-0600
TZOFFSETTO:-0700
TZNAME:MST
DTSTART:20241103T080000
END:STANDARD
END:VTIMEZONE
BEGIN:VEVENT
DTSTART;VALUE=DATE:20231119
DTEND;VALUE=DATE:20231120
DTSTAMP:20260423T140205
CREATED:20230928T203032Z
LAST-MODIFIED:20230928T203113Z
UID:2142-1700352000-1700438399@jainsamajofcolorado.org
SUMMARY:Diwali - Bhagwan Mahavir Nirvaan (Moksha) Kalyanak Celebration 2023
DESCRIPTION:
URL:https://jainsamajofcolorado.org/event/diwali-bhagwan-mahavir-nirvaan-moksha-kalyanak-celebration-2023/
CATEGORIES:JSOC Event
ATTACH;FMTTYPE=image/jpeg:https://jainsamajofcolorado.org/wp-content/uploads/2022/07/jaindiwali.jpg
END:VEVENT
BEGIN:VEVENT
DTSTART;TZID=America/Denver:20230924T093000
DTEND;TZID=America/Denver:20230924T150000
DTSTAMP:20260423T140205
CREATED:20220711T043331Z
LAST-MODIFIED:20230912T183855Z
UID:1750-1695547800-1695567600@jainsamajofcolorado.org
SUMMARY:Das Lakshan Abhishek & Maha Puja 2023
DESCRIPTION:Das Lakshan Abhishek and Maha Puja 2023 will be hosted on Sunday 9/24 by JSOC.
URL:https://jainsamajofcolorado.org/event/das-lakshan-maha-puja-2023/
LOCATION:Lantern House (Stepping Stone Clubhouse)\, E Stepping Stone Cir\, Parker\, Parker\, CO\, 80134\, United States
CATEGORIES:JSOC Event
ATTACH;FMTTYPE=image/jpeg:https://jainsamajofcolorado.org/wp-content/uploads/2022/07/daslakshanmahapuja.jpg
END:VEVENT
BEGIN:VEVENT
DTSTART;VALUE=DATE:20230919
DTEND;VALUE=DATE:20230929
DTSTAMP:20260423T140205
CREATED:20220711T042916Z
LAST-MODIFIED:20230912T183153Z
UID:1748-1695081600-1695945599@jainsamajofcolorado.org
SUMMARY:Das Lakshan Mahaparv 2023
DESCRIPTION:Das Lakshan Mahaparv 2023
URL:https://jainsamajofcolorado.org/event/das-lakshan-mahaparv-2022/
CATEGORIES:General
ATTACH;FMTTYPE=image/jpeg:https://jainsamajofcolorado.org/wp-content/uploads/2022/07/Daslakshan.jpg
END:VEVENT
BEGIN:VEVENT
DTSTART;TZID=America/Denver:20230916T093000
DTEND;TZID=America/Denver:20230916T143000
DTSTAMP:20260423T140205
CREATED:20220711T042604Z
LAST-MODIFIED:20230912T142141Z
UID:1743-1694856600-1694874600@jainsamajofcolorado.org
SUMMARY:Swapna Darshan Ceremony 2023
DESCRIPTION:Jai Jinendra 🙏 \nJain Samaj of Colorado invites everyone to celebrate the ‘Swapna Darshan Ceremony 2023’ \nHere are the program details: \n\nPaalna Ji and Mahalaxmi Swapna Boli\nAarti Divo Boli\nKalpasutra Boli\nSwapna Darshan\nPaalna Ji\nAarti\nLunch\nCommittee Election Update\nTemple Update\n\nCreate your JSOC web account today and subscribe for newsletters here: \n\nMy account \n\n-JSOC Committee
URL:https://jainsamajofcolorado.org/event/swapna-ceremony-2022/
LOCATION:Hindu Temple of The Rockies\, 7201 S Potomac St\, Centennial\, CO\, 80112\, United States
CATEGORIES:JSOC Event
ATTACH;FMTTYPE=image/jpeg:https://jainsamajofcolorado.org/wp-content/uploads/2022/07/SwapnaCeremony.jpg
END:VEVENT
BEGIN:VEVENT
DTSTART;VALUE=DATE:20230912
DTEND;VALUE=DATE:20230919
DTSTAMP:20260423T140205
CREATED:20220711T042804Z
LAST-MODIFIED:20230912T183758Z
UID:1746-1694476800-1695081599@jainsamajofcolorado.org
SUMMARY:Paryushan Mahaparv 2023
DESCRIPTION:Paryushan Mahaparv 2023
URL:https://jainsamajofcolorado.org/event/paryushan-mahaparv-2023/
CATEGORIES:General
ATTACH;FMTTYPE=image/jpeg:https://jainsamajofcolorado.org/wp-content/uploads/2022/07/Paryushan.jpg
END:VEVENT
BEGIN:VEVENT
DTSTART;TZID=America/Denver:20230402T090000
DTEND;TZID=America/Denver:20230402T150000
DTSTAMP:20260423T140205
CREATED:20230306T012136Z
LAST-MODIFIED:20230309T174412Z
UID:2023-1680426000-1680447600@jainsamajofcolorado.org
SUMMARY:Shri 1008 Bhagwan Mahavir Janam Kalyanak 2023
DESCRIPTION:Shri 1008 Bhagwan Mahavir Janam Kalyanak 2023 – Grand Celebration \nJai Jinendra! \nWe are delighted to invite you and your family to join us in celebrating the auspicious occasion of Bhagwan Mahavir Janam Kalyanak. This year’s celebration promises to be special as we honor the life and teachings of one of the most revered spiritual leaders in the world. \nPlease join us on Sunday\, April 2\, 2023\, from 9:00 am to 3:00 pm at Hindu Temple\, 7201\, S Potomac Street\, Centennial\, CO 80112 for a day of spiritual discourse\, devotional music\, cultural activities\, and community gathering. Let us come together to celebrate the birth of ‘Vartaman Jin Shasan Nayak’ and seek inspiration from his teachings to lead a life of peace\, compassion\, and harmony. \nEvent Highlights : \n9:00 am to 9:30 am – Breakfast and Selfie Corner \n9:30 am Mahavir Janam Kalyanak Celebration and Rathyatra \nFollowed by Swami Vatsalya (Lunch)  Food is sponsored. \nWe look forward to your presence and sharing this joyous occasion with you. Kindly RSVP to the sign up sheet so that we can make the necessary arrangements. Please reach out to committee if you don’t have sign up sheet access.
URL:https://jainsamajofcolorado.org/event/shri-1008-bhagwan-mahavir-janam-kalyanak-2023/
LOCATION:Hindu Temple of The Rockies\, 7201 S Potomac St\, Centennial\, CO\, 80112\, United States
CATEGORIES:JSOC Event
ATTACH;FMTTYPE=image/jpeg:https://jainsamajofcolorado.org/wp-content/uploads/2023/03/MJK23_Flyer-2.jpg
END:VEVENT
BEGIN:VEVENT
DTSTART;TZID=America/Denver:20230304T103000
DTEND;TZID=America/Denver:20230304T140000
DTSTAMP:20260423T140205
CREATED:20230225T182303Z
LAST-MODIFIED:20230225T182303Z
UID:2002-1677925800-1677938400@jainsamajofcolorado.org
SUMMARY:JSOC Monthly Bhavana March 2023
DESCRIPTION:Jai Jinendra Family 🙏 \nWe had a great start to the year with our January Bhavna & Republic day events. To continue the momentum and gear up for the Janma Kalyanak event\, let us all gather for our monthly March Bhavana. \nDate/time:\nSaturday\, March 04\, 2023\, 10:30 am onwards\n10:30 – 11:00 : Namokar Mantra Path\n11.00 – 12.00 : Stavan/Bhajan\n12.00 – 12.30: Shanka Samadahn topic discussion\n12.30 – 12.45: Janma Kalyanak preparation updates\n12.45 – 13.00 : Aarti\n13:00 – 14:00: Lunch (Potluck) \nThis is a potluck event. Please sign up to JSOC Planing 2023 sheet accordingly.
URL:https://jainsamajofcolorado.org/event/jsoc-monthly-bhavana-march-2023/
LOCATION:Koelbel Library\, 5955 S Holly St\, Centennial\, CO\, 80121\, United States
CATEGORIES:JSOC Event
END:VEVENT
BEGIN:VEVENT
DTSTART;TZID=America/Denver:20230128T103000
DTEND;TZID=America/Denver:20230128T150000
DTSTAMP:20260423T140205
CREATED:20230122T195554Z
LAST-MODIFIED:20230122T195554Z
UID:1997-1674901800-1674918000@jainsamajofcolorado.org
SUMMARY:JSOC Monthly Bhavna January 2023
DESCRIPTION:JSOC Monthly Bhavna January 2023 \nJai Jinendra Family 🙏 \nTo continue our yearly tradition\, JSOC Committee looks forward to your presence on our first Bhavna of the year 2023 ‘Republic Day Special’. \nEverybody (including adults) is encouraged to give their patriotic performances. Including but not limited to songs\, dances\, quizzes\, skits or important facts about India\, etc.\nplease update column k in the sheet to participate. \nDate/Time: Saturday\, January 28\, 2023\, 10:30 am-3:00 pm \nNotes:\n1. Please prefer to wear white or tri-color attire.\n2. Bring a tricolor flag if you have one.\n3. Any patriotic form of performance/activity is allowed. Encourage your kids to participate and perform.\n4. Share your music file with me (Sachin) by Thursday.\n5. Please note that this event is planned for Saturday due unavailability of the venue. \nThis is a potluck event. Please sign up for food and attendance in the event signup sheet for 2023. \n-JSOC Committee
URL:https://jainsamajofcolorado.org/event/jsoc-monthly-bhavna-january-2023/
CATEGORIES:JSOC Event
ATTACH;FMTTYPE=image/jpeg:https://jainsamajofcolorado.org/wp-content/uploads/slider3/JSOC_JanuaryBhavna1.jpeg
END:VEVENT
BEGIN:VEVENT
DTSTART;TZID=America/Denver:20221023T103000
DTEND;TZID=America/Denver:20221023T140000
DTSTAMP:20260423T140205
CREATED:20220711T043615Z
LAST-MODIFIED:20220925T154640Z
UID:1753-1666521000-1666533600@jainsamajofcolorado.org
SUMMARY:Diwali - Bhagwan Mahavir Nirvaan (Moksha) Kalyanak Celebration 2022
DESCRIPTION:Diwali – Bhagwan Mahavir Nirvaan (Moksha) Kalyanak Celebration 2022 \nJai Jinendra Family 🙏 \nIn Jainism\, Diwali is celebrated to commemorate the attainment of Moksha by Bhagwan Mahavir. The act of illuminating homes and temples with lamps to celebrate this parva guides us to light up our inner vision by implementing the path preached by Bhagwan Mahavir. \nThis year\, Chiraag Ji & Swetha Ji Shah would like to host and invite Samaj to celebrate this auspicious day of Jainism. \nDate/Time: Sunday\, October 23\, 2022 10:30am – 2pm\nVenue: TBD \nSwami Vatsalya (food) is sponsored by the hosts themselves. \nPlease signup for the event at your earliest convenience on the sheet below:\nhttps://docs.google.com/spreadsheets/d/1dTSO0O7JUVNQ3NqfTdehm34SireZF0Bc2xZUAmIAggI/edit#gid=55526542 \nWe wish you all a spiritually enlightening start to the New Year!
URL:https://jainsamajofcolorado.org/event/diwali-2022/
CATEGORIES:JSOC Event
ATTACH;FMTTYPE=image/jpeg:https://jainsamajofcolorado.org/wp-content/uploads/2022/07/jaindiwali.jpg
END:VEVENT
BEGIN:VEVENT
DTSTART;TZID=America/Denver:20220911T103000
DTEND;TZID=America/Denver:20220911T113000
DTSTAMP:20260423T140205
CREATED:20220528T220506Z
LAST-MODIFIED:20220711T043739Z
UID:1224-1662892200-1662895800@jainsamajofcolorado.org
SUMMARY:Pathshala Day
DESCRIPTION:There will be Pathshala today.
URL:https://jainsamajofcolorado.org/event/pathshala-day/
LOCATION:Virtual – Zoom
CATEGORIES:Pathshala
ATTACH;FMTTYPE=image/jpeg:https://jainsamajofcolorado.org/wp-content/uploads/2022/05/Pathshala.jpg
END:VEVENT
BEGIN:VEVENT
DTSTART;TZID=America/Denver:20220827T130000
DTEND;TZID=America/Denver:20220827T170000
DTSTAMP:20260423T140205
CREATED:20220818T060526Z
LAST-MODIFIED:20220821T183345Z
UID:1875-1661605200-1661619600@jainsamajofcolorado.org
SUMMARY:Saman Shri Ashwini Pragya Ji's Lecture @Sai Temple
DESCRIPTION:‘Search of Peace’ \nJSOC is arranging a special lecture by Saman Shri Ashwini Pragya Ji at Sai Temple. This lecture is open to the general public on the topic ‘Search of Peace’ and is strictly an in-person event.
URL:https://jainsamajofcolorado.org/event/saman-shri-ashwin-pragya-jis-lecture-sai-temple/
LOCATION:Shri Shirdi SaiBaba Temple of Rockies\, 10250 E Easter Ave\, Centennial\, CO\, 80112\, United States
CATEGORIES:JSOC Event
ATTACH;FMTTYPE=image/jpeg:https://jainsamajofcolorado.org/wp-content/uploads/2022/08/SearchOfPeace.jpg
END:VEVENT
BEGIN:VEVENT
DTSTART;VALUE=DATE:20220823
DTEND;VALUE=DATE:20220903
DTSTAMP:20260423T140205
CREATED:20220711T042132Z
LAST-MODIFIED:20220719T060828Z
UID:1740-1661212800-1662163199@jainsamajofcolorado.org
SUMMARY:Saman Shri Ashwini Pragya ji Visit
DESCRIPTION:Saman Shri Ashwini Pragya ji Visiting us. Please take laabh of his lectures daily.
URL:https://jainsamajofcolorado.org/event/shri-saman-ashwini-pragya-ji-visit/
CATEGORIES:General
ATTACH;FMTTYPE=image/jpeg:https://jainsamajofcolorado.org/wp-content/uploads/2022/07/AshwiniPragyaJi.jpg
END:VEVENT
BEGIN:VEVENT
DTSTART;VALUE=DATE:20220727
DTEND;VALUE=DATE:20220731
DTSTAMP:20260423T140205
CREATED:20220711T041929Z
LAST-MODIFIED:20220714T231239Z
UID:1738-1658880000-1659225599@jainsamajofcolorado.org
SUMMARY:Saman Shri Shrut Pragya ji Visit
DESCRIPTION:Saman Shri Shrut Pragya Shri ji Visiting us. Please take laabh of his lectures in-person daily. \nRefer this YouTube link to learn more about Samanji and his lectures: https://www.youtube.com/c/PeaceofMindRajkot
URL:https://jainsamajofcolorado.org/event/saman-shri-shut-pragya-shri-ji-visit/
CATEGORIES:General
ATTACH;FMTTYPE=image/jpeg:https://jainsamajofcolorado.org/wp-content/uploads/2022/07/samanshrutpragyaji.jpg
END:VEVENT
BEGIN:VEVENT
DTSTART;TZID=America/Denver:20220717T110000
DTEND;TZID=America/Denver:20220717T150000
DTSTAMP:20260423T140205
CREATED:20220521T004937Z
LAST-MODIFIED:20220627T074330Z
UID:343-1658055600-1658070000@jainsamajofcolorado.org
SUMMARY:JSOC Picnic 2022
DESCRIPTION:Jai Jinendra! \nAs Colorado is stepping into Summer\, its time to go out\, play games\, have fun and enjoy delicious meal. Its Time to PICNIC!!! \nGet ready for fun filled get together…Join Us. \nPlease sign up for potluck or donation (food) Here \nWe need volunteers! Please fill the sheet Here. \nOur Picnic Guess the Place Winners: \n\nRajesh Jain\nPriyank Shah\nMiten Patwa\nDharmik Mehta\n\n-JSOC Committee
URL:https://jainsamajofcolorado.org/event/jsoc-picnic-2022/
LOCATION:Philip S. Miller Park\, 1375 W Plum Creek Pkwy\, Castle Rock\, CO\, 80109\, United States
CATEGORIES:JSOC Event
ATTACH;FMTTYPE=image/jpeg:https://jainsamajofcolorado.org/wp-content/uploads/2022/05/Park.jpg
END:VEVENT
BEGIN:VEVENT
DTSTART;TZID=America/Denver:20220621T173000
DTEND;TZID=America/Denver:20220621T200000
DTSTAMP:20260423T140205
CREATED:20220614T031337Z
LAST-MODIFIED:20220619T074312Z
UID:1591-1655832600-1655841600@jainsamajofcolorado.org
SUMMARY:Yoga Session on International Yoga Day
DESCRIPTION:Jai Jinendra All ? \nGet ready to stretch yourself on this international yoga day. \nJoin us to rejuvenate your mind and body with JSOC yoga session led by our Yoga teacher Ketna Ben Shah and co-teacher Maya\, followed by light snacks. \n  \nImportant Notice: \n\nPlease wear white t-shirt and bring your yoga mat and water bottle.\nThis is a potluck event.\nPlease update sheet here
URL:https://jainsamajofcolorado.org/event/yoga-session-on-international-yoga-day/
LOCATION:Amphitheater at Centennial Center Park\, 13050 E Peakview Ave\, Centennial\, CO\, 80112\, United States
CATEGORIES:JSOC Event
ATTACH;FMTTYPE=image/jpeg:https://jainsamajofcolorado.org/wp-content/uploads/2022/06/YogaDay.jpg
END:VEVENT
BEGIN:VEVENT
DTSTART;TZID=America/Denver:20220522T090000
DTEND;TZID=America/Denver:20220522T130000
DTSTAMP:20260423T140205
CREATED:20220520T044258Z
LAST-MODIFIED:20220612T075947Z
UID:143-1653210000-1653224400@jainsamajofcolorado.org
SUMMARY:Snatra Puja
DESCRIPTION:Jai Jinendra Family ? \nNirmal bhai and Harshida ben Shah invite JSOC for Snatra Pooja and Siddhachakra Vidhaan at their residence. They have invited Pandit Atul ji Shah from Chicago specially for the event. We would like to insist Samaj to take laabh of this grand event. \nHosts: Nirmal and Harshida shah \nLunch will be provided by the hosts. \nThose who are interested in taking part in the pooja\, please bring clothes appropriate for sitting in the pooja and be there on time. You can also just attend the pooja without taking part in it. \nHosts requests everyone to RSVP on google sheet by May 10\, 2022. \nPlease be on time! \nWant to know more about Snatra Puja ? Please refer this link https://www.austinjainsangh.org/index.php/religious-info/snatra-puja
URL:https://jainsamajofcolorado.org/event/snatra-puja/
CATEGORIES:JSOC Event
ATTACH;FMTTYPE=image/jpeg:https://jainsamajofcolorado.org/wp-content/uploads/2022/05/SnatraPuja.jpg
END:VEVENT
END:VCALENDAR