BEGIN:VCALENDAR
VERSION:2.0
PRODID:-//JSOC - ECPv6.15.20//NONSGML v1.0//EN
CALSCALE:GREGORIAN
METHOD:PUBLISH
X-ORIGINAL-URL:https://jainsamajofcolorado.org
X-WR-CALDESC:Events for JSOC
REFRESH-INTERVAL;VALUE=DURATION:PT1H
X-Robots-Tag:noindex
X-PUBLISHED-TTL:PT1H
BEGIN:VTIMEZONE
TZID:America/Denver
BEGIN:DAYLIGHT
TZOFFSETFROM:-0700
TZOFFSETTO:-0600
TZNAME:MDT
DTSTART:20210314T090000
END:DAYLIGHT
BEGIN:STANDARD
TZOFFSETFROM:-0600
TZOFFSETTO:-0700
TZNAME:MST
DTSTART:20211107T080000
END:STANDARD
BEGIN:DAYLIGHT
TZOFFSETFROM:-0700
TZOFFSETTO:-0600
TZNAME:MDT
DTSTART:20220313T090000
END:DAYLIGHT
BEGIN:STANDARD
TZOFFSETFROM:-0600
TZOFFSETTO:-0700
TZNAME:MST
DTSTART:20221106T080000
END:STANDARD
BEGIN:DAYLIGHT
TZOFFSETFROM:-0700
TZOFFSETTO:-0600
TZNAME:MDT
DTSTART:20230312T090000
END:DAYLIGHT
BEGIN:STANDARD
TZOFFSETFROM:-0600
TZOFFSETTO:-0700
TZNAME:MST
DTSTART:20231105T080000
END:STANDARD
END:VTIMEZONE
BEGIN:VEVENT
DTSTART;VALUE=DATE:20220727
DTEND;VALUE=DATE:20220731
DTSTAMP:20260423T142015
CREATED:20220711T041929Z
LAST-MODIFIED:20220714T231239Z
UID:1738-1658880000-1659225599@jainsamajofcolorado.org
SUMMARY:Saman Shri Shrut Pragya ji Visit
DESCRIPTION:Saman Shri Shrut Pragya Shri ji Visiting us. Please take laabh of his lectures in-person daily. \nRefer this YouTube link to learn more about Samanji and his lectures: https://www.youtube.com/c/PeaceofMindRajkot
URL:https://jainsamajofcolorado.org/event/saman-shri-shut-pragya-shri-ji-visit/
LOCATION:CO
CATEGORIES:General
ATTACH;FMTTYPE=image/jpeg:https://jainsamajofcolorado.org/wp-content/uploads/2022/07/samanshrutpragyaji.jpg
END:VEVENT
BEGIN:VEVENT
DTSTART;TZID=America/Denver:20220717T110000
DTEND;TZID=America/Denver:20220717T150000
DTSTAMP:20260423T142015
CREATED:20220521T004937Z
LAST-MODIFIED:20220627T074330Z
UID:343-1658055600-1658070000@jainsamajofcolorado.org
SUMMARY:JSOC Picnic 2022
DESCRIPTION:Jai Jinendra! \nAs Colorado is stepping into Summer\, its time to go out\, play games\, have fun and enjoy delicious meal. Its Time to PICNIC!!! \nGet ready for fun filled get together…Join Us. \nPlease sign up for potluck or donation (food) Here \nWe need volunteers! Please fill the sheet Here. \nOur Picnic Guess the Place Winners: \n\nRajesh Jain\nPriyank Shah\nMiten Patwa\nDharmik Mehta\n\n-JSOC Committee
URL:https://jainsamajofcolorado.org/event/jsoc-picnic-2022/
LOCATION:Philip S. Miller Park\, 1375 W Plum Creek Pkwy\, Castle Rock\, CO\, 80109\, United States
CATEGORIES:JSOC Event
ATTACH;FMTTYPE=image/jpeg:https://jainsamajofcolorado.org/wp-content/uploads/2022/05/Park.jpg
END:VEVENT
BEGIN:VEVENT
DTSTART;TZID=America/Denver:20220621T173000
DTEND;TZID=America/Denver:20220621T200000
DTSTAMP:20260423T142015
CREATED:20220614T031337Z
LAST-MODIFIED:20220619T074312Z
UID:1591-1655832600-1655841600@jainsamajofcolorado.org
SUMMARY:Yoga Session on International Yoga Day
DESCRIPTION:Jai Jinendra All ? \nGet ready to stretch yourself on this international yoga day. \nJoin us to rejuvenate your mind and body with JSOC yoga session led by our Yoga teacher Ketna Ben Shah and co-teacher Maya\, followed by light snacks. \n  \nImportant Notice: \n\nPlease wear white t-shirt and bring your yoga mat and water bottle.\nThis is a potluck event.\nPlease update sheet here
URL:https://jainsamajofcolorado.org/event/yoga-session-on-international-yoga-day/
LOCATION:Amphitheater at Centennial Center Park\, 13050 E Peakview Ave\, Centennial\, CO\, 80112\, United States
CATEGORIES:JSOC Event
ATTACH;FMTTYPE=image/jpeg:https://jainsamajofcolorado.org/wp-content/uploads/2022/06/YogaDay.jpg
END:VEVENT
BEGIN:VEVENT
DTSTART;TZID=America/Denver:20220522T090000
DTEND;TZID=America/Denver:20220522T130000
DTSTAMP:20260423T142015
CREATED:20220520T044258Z
LAST-MODIFIED:20220612T075947Z
UID:143-1653210000-1653224400@jainsamajofcolorado.org
SUMMARY:Snatra Puja
DESCRIPTION:Jai Jinendra Family ? \nNirmal bhai and Harshida ben Shah invite JSOC for Snatra Pooja and Siddhachakra Vidhaan at their residence. They have invited Pandit Atul ji Shah from Chicago specially for the event. We would like to insist Samaj to take laabh of this grand event. \nHosts: Nirmal and Harshida shah \nLunch will be provided by the hosts. \nThose who are interested in taking part in the pooja\, please bring clothes appropriate for sitting in the pooja and be there on time. You can also just attend the pooja without taking part in it. \nHosts requests everyone to RSVP on google sheet by May 10\, 2022. \nPlease be on time! \nWant to know more about Snatra Puja ? Please refer this link https://www.austinjainsangh.org/index.php/religious-info/snatra-puja
URL:https://jainsamajofcolorado.org/event/snatra-puja/
LOCATION:CO
CATEGORIES:JSOC Event
ATTACH;FMTTYPE=image/jpeg:https://jainsamajofcolorado.org/wp-content/uploads/2022/05/SnatraPuja.jpg
END:VEVENT
END:VCALENDAR